BEGIN:VCALENDAR
VERSION:2.0
PRODID:-//Desert Garden Gallery - ECPv6.15.20//NONSGML v1.0//EN
CALSCALE:GREGORIAN
METHOD:PUBLISH
X-WR-CALNAME:Desert Garden Gallery
X-ORIGINAL-URL:https://desertgardengallery.com
X-WR-CALDESC:Events for Desert Garden Gallery
REFRESH-INTERVAL;VALUE=DURATION:PT1H
X-Robots-Tag:noindex
X-PUBLISHED-TTL:PT1H
BEGIN:VTIMEZONE
TZID:America/Phoenix
BEGIN:STANDARD
TZOFFSETFROM:-0700
TZOFFSETTO:-0700
TZNAME:MST
DTSTART:20240101T000000
END:STANDARD
END:VTIMEZONE
BEGIN:VEVENT
DTSTART;TZID=America/Phoenix:20250928T180000
DTEND;TZID=America/Phoenix:20250928T200000
DTSTAMP:20260420T165950
CREATED:20250903T013622Z
LAST-MODIFIED:20250903T014004Z
UID:10000012-1759082400-1759089600@desertgardengallery.com
SUMMARY:SOMA Sip and Paint
DESCRIPTION:But make it holistic — with functional cocktails\, desert energy\, and a space to reconnect with yourself. \nOn Sunday\, September 28th\, we’re bringing the vibe to Desert Garden Gallery for a night rooted in creativity\, calm\, and connection. \nHere’s what’s on the palette: \nA landscape painting session — no pressure\, just presence \nTwo handcrafted non-alcoholic cocktails infused with kava\, adaptogenic mushrooms\, botanicals\, and more \nA curated charcuterie board (while it lasts) \nAmbient moody soundscapes to keep things grounded and flowing \nSocial energy that feels easy\, \neffortless\, and aligned \nCome create\, sip\, and recharge \n— in true SOMA fashion
URL:https://desertgardengallery.com/event/soma-sip-and-paint/
LOCATION:Desert Garden Gallery\, 2456 N Pantano Rd\, Tucson\, AZ\, 85715\, United States
ATTACH;FMTTYPE=image/png:https://desertgardengallery.com/wp-content/uploads/2025/09/3.png
ORGANIZER;CN="Tyra Combs":MAILTO:tyra@thesocialspritz.co
END:VEVENT
END:VCALENDAR