BEGIN:VCALENDAR
VERSION:2.0
PRODID:-//Desert Garden Gallery - ECPv6.15.20//NONSGML v1.0//EN
CALSCALE:GREGORIAN
METHOD:PUBLISH
X-ORIGINAL-URL:https://desertgardengallery.com
X-WR-CALDESC:Events for Desert Garden Gallery
REFRESH-INTERVAL;VALUE=DURATION:PT1H
X-Robots-Tag:noindex
X-PUBLISHED-TTL:PT1H
BEGIN:VTIMEZONE
TZID:America/Phoenix
BEGIN:STANDARD
TZOFFSETFROM:-0700
TZOFFSETTO:-0700
TZNAME:MST
DTSTART:20240101T000000
END:STANDARD
END:VTIMEZONE
BEGIN:VEVENT
DTSTART;TZID=America/Phoenix:20250914T170000
DTEND;TZID=America/Phoenix:20250914T190000
DTSTAMP:20260420T201446
CREATED:20250902T223613Z
LAST-MODIFIED:20250903T013801Z
UID:10000011-1757869200-1757876400@desertgardengallery.com
SUMMARY:SOMA Social
DESCRIPTION:Join us for a night where cocktails meet creativity and every pour is packed with intention. \nOn Sunday\, September 14th\, come through for a guided Mixology session led by The Social Spritz and Key Mixology\, designed to awaken your palate and reset your rhythm. \nWhat’s on the bar cart: \n\nTwo zero-proof cocktails crafted by The Social Spritz using kava\, adaptogens\, and botanical blends\nTwo elevated craft cocktails curated by Key Mixology\, full-bodied and bold\nA curated charcuterie board to snack and socialize over\nFull access to mixology tools so you can shake\, stir\, and sip along\njazz-inspired soundscapes to set the mood\n\nCome mix\, mingle\, and unwind — with SOMA as your muse
URL:https://desertgardengallery.com/event/soma-social/
LOCATION:Desert Garden Gallery\, 2456 N Pantano Rd\, Tucson\, AZ\, 85715\, United States
CATEGORIES:Class
ATTACH;FMTTYPE=image/png:https://desertgardengallery.com/wp-content/uploads/2025/09/1.png
ORGANIZER;CN="Tyra Combs":MAILTO:tyra@thesocialspritz.co
END:VEVENT
END:VCALENDAR